BEGIN:VCALENDAR
VERSION:2.0
PRODID:-//Men&#039;s Nation - ECPv6.15.20//NONSGML v1.0//EN
CALSCALE:GREGORIAN
METHOD:PUBLISH
X-ORIGINAL-URL:https://mensnation.org
X-WR-CALDESC:Events for Men&#039;s Nation
REFRESH-INTERVAL;VALUE=DURATION:PT1H
X-Robots-Tag:noindex
X-PUBLISHED-TTL:PT1H
BEGIN:VTIMEZONE
TZID:UTC
BEGIN:STANDARD
TZOFFSETFROM:+0000
TZOFFSETTO:+0000
TZNAME:UTC
DTSTART:20240101T000000
END:STANDARD
END:VTIMEZONE
BEGIN:VEVENT
DTSTART;TZID=UTC:20250918T120000
DTEND;TZID=UTC:20250921T180000
DTSTAMP:20260424T153317
CREATED:20191028T021925Z
LAST-MODIFIED:20250411T093356Z
UID:823-1758196800-1758477600@mensnation.org
SUMMARY:Mens Nation 2025 UK Gathering
DESCRIPTION:EmbercombeEvent  —  Retreat \nOnce a year  we gather all our circles into one. We meet on the land\, bringing our ideas\, gifts and practices to share and become a circle of circles. \nBook PlacesAbout the EventFor four days\, we are men. Only men. Experience how feels to inhabit an all-male space\, away from the expectations of the embodied feminine\, our dependents and our outside responsibilities. In this time\, we focus on ourselves\, who and how we are in the world and how can we re-enter our lives in our thriving\, healthy fullness. \n\nSee and be seen by your peers. \n\nTake space to for yourself without expectations. \n\nPamper yourself. Practice – or learn – self care. \n\nCreate a supportive circle of Brothers. \n What makes this different to other events...? Men’s gatherings or retreats usually follow a central prescribed program or ideology. At Men’s Nation\, that learning\, topic or performance is brought by YOU. This is a chance to trial many organisations’ programs and sessions\, over one weekend. Or\, present your own…!
URL:https://mensnation.org/event/2025-uk-gathering/
LOCATION:Embercombe\, Higher Ashton\, Exeter\, Devon\, EX6 7QQ\, United Kingdom
CATEGORIES:Community,Dance,Food,Music,Outreach,Party,Retreat,Show,Theater,Treatment
ATTACH;FMTTYPE=image/jpeg:https://mensnation.org/wp-content/uploads/2019/10/MN2025UKG-1.jpg
ORGANIZER;CN="Men's Nation/Circle of Circles CIC":MAILTO:contact@mensnation.org
END:VEVENT
END:VCALENDAR